Workbook
Name adaptatie: 'info weging'!$A$114:$A$118
Name beheeronderhoud: 'info weging'!$A$125:$A$129
Name circulariteit: 'info weging'!$A$147:$A$151
Name co2berekening: 'info weging'!$A$158:$A$162
Name herbruikbaarheid: 'info weging'!$A$92:$A$96
Name levensduurverlenging: 'info weging'!$A$48:$A$52
Name materialendatabank: 'info weging'!$A$70:$A$74
Name materialenpaspoort: 'info weging'!$A$103:$A$107
Name mki: 'info weging'!$A$136:$A$140
Name mkiberekening: 'info weging'!$A$136:$A$140
Name natuurlijkeprocessen: 'info weging'!$A$81:$A$85
Name opgaveverkleining: 'info weging'!$I$37:$I$41
Name opgverkleining: 'info weging'!$A$37:$A$41
Name restwaardehergebruik: 'info weging'!$A$59:$A$63

Sheet intro
F3: Circulaire Peiler
F4: Afwegingskader voor Circulariteit in Projecten
F5: De peilstok die de circulariteit van projecten meetbaar maakt
F7: SNELLE START INSTRUCTIE
F8: ►Introductie + helpdesk
F9: ►Snelle-start / de knoppen
F10: ►Veel gestelde vragen (FAQ)
A14: 1. Introductie + helpdesk
A15: CPI | B15: In opdracht van Waterschap Vallei en Veluwe heeft WSP de Circulaire Peiler opgesteld als algemeen afwegingskader voor circulariteit.
B16: Het project is mogelijk gemaakt door een innovatiebeschikking van het HWBP.
A17: DOEL | B17: Het doel van het instrument Circulaire Peiler is duurzame, circulaire ontwikkeling te stimuleren. Het verkrijgen van inzicht hoe duurzaam
B18: een project is en welke maatregelen effectief bijdragen aan circulariteit is daarbij van belang.
B19: Werken met de Circulaire Peiler moet bijdragen aan inzicht welke maatregelen effectief bijdragen bij aan realisatie van een volledig
B20: circulaire economie waarbij materiaalgebruik wordt geminimaliseerd en weinig milieubelastende materialen worden ingezet.
A21: PRINCIPE | B21: Het principe is eenvoudig. Er is een kwalitatieve en kwantitatieve beoordeling van de circulariteit van projecten
B22: Gerealiseerde doelstellingen krijgen punten toegekend. Hoe meer punten, hoe circulairder een ontwikkeling is. De peilstok reikt van CPI = 0 tot 100 [-].
B23: CPI is de Circulair Peil Index. Hoe dichter CPI bij 100 komt, hoe meer tijdens de ontwikkeling is gestuurd op het meest circulaire resultaat.
B24: Gerealiseerde doelstellingen worden in de CPI per fase gewaardeerd via een puntenscore. Kwalitatieve beoordelingsaspecten worden
B25: gewogen, waarbij de weging verschilt per fase.
B26: Kwantitatief wordt het resultaat beoordeeld door de MKI, CO2 en de circulariteitsindex CI (CB'23) te berekenen en te vergelijken met een referentie.
A27: VERSIE 2 | B27: In deze tweede versie van de Circulaire Peiler wordt een onderscheid gemaakt in een kwalitatieve procesbeoordeling via de CPI en een
B28: kwantitatieve beoordeling van de procentuele reductie van de MKI, Circulariteitsindex (CB'23) en de CO2-uitstoot ten opzichte van een referentie.
B29: De circulaire peiler blijft in ontwikkeling. Wij staan open voor uw suggesties voor verbeteringen.
A30: HELPDESK | B30: Voor vragen en nadere informatie: heike.gaasbeek@wsp.com (0615484349) (Helpdesk WSP)
A31: ◄◄Snelle start
A33: 2. Snelle-start / de knoppen
A34: ►2.1 Werkwijze beoordeling implementatie circulariteit met de Circulaire Peiler | L34: ►BIJLAGEN
A35: ►2.2 Procesmatige beoordeling via multi-criteria (algemeen) | L35: ►Bijlage 1: Voorbeeldschermen
A36: ►2.3 Knoppen voor de procesmatige beoordeling | L36: ►Bijlage 2: De acht circulaire ontwerpprinces
A37: ►2.4 Kwantitatieve beoordeling milieueffect: MKI / CO2 / CI (CB'23) | L37: ►Bijlage 3: 10-R model Prioriteitsvolgorde Circulariteit
A38: ►2.5 Samenvatting resultaten voor printuitvoer
A39: ►2.6 Vergelijking alternatieven
A40: ◄◄Snelle start
A42: 2.1 WERKWIJZE BEOORDELING IMPLEMENTATIE CIRCULARITEIT IN ONTWIKKELINGSPROCES MET DE CIRCULAIRE PEILER
A43: Circulaire peiler beoordeelt implementatie van circulariteit in het ontwikkelingsproces zowel procesmatig als kwantitatief
A44: Kwalitatieve procesbeoordeling: CPI (Circulaire Peil Index) beoordeelt of in de verschillende fasen van het ontwikkelingsproces voldoende doelstellingen
A45: via procesmatige sturing zijn gerealiseerd.
A46: Kwantitatieve resultaatsbeoordeling: Het nemen van de juiste procesmatige activiteiten, zal ertoe leiden dat de impact op de
A47: milieubelasting, circulariteit en CO2 uitstoot meer of minder groot is. De circulaire peiler beoordeelt het kwantitatieve effect
A48: door een vergelijking te maken ten opzichte van een (traditionele) referentie. Voor die referentiesituatie wordt de MKI, CI en CO2 uitstoot berekend.
...

Sheet invoer Basis
N2: De Circulaire Peiler
N3: Peilstok die circulariteit in projecten meetbaar maakt
L4: Naam project: | M4: =IF(N4=""," voer hier de projectnaam in","") | N4: Projectnaam
L5: Opdrachtgever: | M5: =IF(N5=""," voer hier de naam van de opdrachtgever in","") | N5: Naam opdrachtgever | AP5: Versie:
L6: Locatie project: | M6: =IF(N6=""," voer hier de locatie van het project in","") | N6: Plaatsnaam | AP6: V2.0/a
L7: Naam alternatief: | M7: =IF(N7=""," voer hier de naam van het berekende alternatief in","") | N7: invoer Basis
L8: Te beoordelen fase: | M8: =IF(N8="initiatieffase",1)+IF(N8="verkenningsfase",2)+IF(N8="beheer/onderhoudsfase",6)+IF(N8="contractvormingsfase",4)+IF(N8="realisatiefase",5)+IF(N8="<eigen weegfactoren>",7)+IF(N8="planuitwerkingsfase",3) -> 2 | N8: verkenningsfase
N9: =IF(N8="","klik op het blauwe vlak en selecteer via het pull down menu de te beoordelen fase waarin het project zich bevindt (t.b.v. bepaling weegfactoren)","") | AP9: datum:
L10: Berekening uitgevoerd door: | M10: =IF(N10=""," klik op dit vlak om tekst in te voeren","") | N10: Bas Is | AP10: 18012022
L11: Datum berekening: | M11: =IF(N11=""," klik op dit vlak om tekst in te voeren","") | N11: 43831
L12: Opmerking: | M12: =IF(N12=""," klik op dit vlak om tekst in te voeren","") | N12: Test
N14: BEREKENING PROCES CPI: START IN DE KOLOM HIERONDER MET DE INVOER VAN DE INPUT VAN DOELEN/PRESTATIES VOOR DE CIRCULAIRE PEILER (CPI)
N15: - Selecteer een optie via het PULLDOWN MENU (verschijnt na klik op lichtgekleurde vlak) | W15: WEEGFACTOREN PER ONTWERPPRINCIPE | AE15: =BZK64 -> 0 | AF15: =BZL64 -> 1 | AG15: =BZM64 -> 0 | AH15: =BZN64 -> 0 | AI15: =BZO64 -> 0 | AJ15: =BZP64 -> 0 | AK15: =BZQ64 -> 0 | BYY15: =BZK64 -> 0 | BYZ15: =BYY15 -> 0 | BZC15: =BZL64 -> 1 | BZD15: =BZC15 -> 1 | BZG15: =BZM64 -> 0 | BZH15: =BZG15 -> 0 | BZK15: =BZN64 -> 0 | BZL15: =BZK15 -> 0 | BZO15: =BZO64 -> 0 | BZP15: =BZO15 -> 0 | BZS15: =BZP64 -> 0 | BZT15: =BZS15 -> 0 | BZW15: =BZQ64 -> 0 | BZX15: =BZW15 -> 0
A16: FASE | B16: initiatief | C16: verkenning | D16: planuitwerking | E16: contractvorming | F16: realisatie | G16: beheer/onderhoud | N16: - Na selectie van een optie verschijnt de score van het item en de bijdrage aan de CPI (Index Circulaire Peiler). | W16: FASE | X16: initiatief | Y16: verkenning | Z16: planuitwerking | AA16: contractvorming | AB16: realisatie | AC16: beheer/onderhoud | AD16: eigen input | AE16: punten | AF16: verkenning | AG16: planuitwerking | AH16: contractvorming | AI16: realisatie | AJ16: beheer/onderhoud | AK16: eigen waarde
N17: - Na invoer van alle circulaire ontwerpprincipes keuzes zijn ingevoerd, verschijnt de Proces - CPI van het project
N18: BEREKENING REFERENTIEMONITOR Reductie % CPI: VUL DE WAARDEN VAN DE MKI, CI en CO2 VAN HET PROJECT EN DE REFERENTIE IN (lichtblauwe, groene en rode vlakken)
J19: =BZJ53 -> #N/A | N19: - Vul de waarden van de MKI, CI en CO2 van het project en de referentie in (lichtblauwe, groene en rode vlakken) | AN19: 0 | AP19: 100
J20: ='print Basis'!$G$10&" "&'print Basis'!G8 -> invoer Basis Projectnaam | N20: START HIERONDER MET DE INVOER | X20: =BZK64 -> 0 | Y20: =BZL64 -> 1 | Z20: =BZM64 -> 0 | AA20: =BZN64 -> 0 | AB20: =BZO64 -> 0 | AC20: =BZP64 -> 0 | AD20: =BZQ64 -> 0 | AE20: deelscore
B21: =SUM(B41,B38,B36,B34,B31,B27,B25,B23) -> 1 | C21: =SUM(C41,C38,C36,C34,C31,C27,C25,C23) -> 1 | D21: =SUM(D41,D38,D36,D34,D31,D27,D25,D23) -> 1 | E21: =SUM(E41,E38,E36,E34,E31,E27,E25,E23) -> 1 | F21: =SUM(F41,F38,F36,F34,F31,F27,F25,F23) -> 1 | G21: =SUM(G41,G38,G36,G34,G31,G27,G25,G23) -> 1 | L21: ='print Basis'!G8 -> Projectnaam | N21: ="Gerealiseerd circulair doel per ontwerpprincipe in de " & N8 -> Gerealiseerd circulair doel per ontwerpprincipe in de verkenningsfase | X21: =SUM(X41,X38,X36,X34,X31,X27,X25,X23) -> 1 | Y21: =SUM(Y41,Y38,Y36,Y34,Y31,Y27,Y25,Y23) -> 1 | Z21: =SUM(Z41,Z38,Z36,Z34,Z31,Z27,Z25,Z23) -> 1 | AA21: =SUM(AA41,AA38,AA36,AA34,AA31,AA27,AA25,AA23) -> 1 | AB21: =SUM(AB41,AB38,AB36,AB34,AB31,AB27,AB25,AB23) -> 1 | AC21: =SUM(AC41,AC38,AC36,AC34,AC31,AC27,AC25,AC23) -> 1 | AD21: =SUM(AD41,AD38,AD36,AD34,AD31,AD27,AD25,AD23) -> 1 | AE21: 100 | AL21: ='print Basis'!G10 -> invoer Basis | AN21: CPI = | AO21: =1-AP21 -> #VALUE! | AP21: =IF(M22=12,SUM(AP23:AP42)+AP44,"-") -> - | AR21: Toelichting op gemaakte keuzes
B22: =(1/8)*SUM(B24,B26,B28,B29,B30,B32,B33,B35,B37,B39,B40,B42) -> 1 | C22: =(1/8)*SUM(C24,C26,C28,C29,C30,C32,C33,C35,C37,C39,C40,C42) -> 1 | D22: =(1/8)*SUM(D24,D26,D28,D29,D30,D32,D33,D35,D37,D39,D40,D42) -> 1 | E22: =(1/8)*SUM(E24,E26,E28,E29,E30,E32,E33,E35,E37,E39,E40,E42) -> 1 | F22: =(1/8)*SUM(F24,F26,F28,F29,F30,F32,F33,F35,F37,F39,F40,F42) -> 1 | G22: =(1/8)*SUM(G24,G26,G28,G29,G30,G32,G33,G35,G37,G39,G40,G42) -> 1 | L22: CIRCULAIRE ONTWERPPRINCIPES 1 t/m 8 + subvragen a t/m c | M22: =COUNTA(N24,N26,N28,N29,N30,N32,N33,N35,N37,N39,N40,N42) -> 0 | X22: =(1/8)*SUM(X24,X26,X28,X29,X30,X32,X33,X35,X37,X39,X40,X42) -> 1 | Y22: =(1/8)*SUM(Y24,Y26,Y28,Y29,Y30,Y32,Y33,Y35,Y37,Y39,Y40,Y42) -> 1 | Z22: =(1/8)*SUM(Z24,Z26,Z28,Z29,Z30,Z32,Z33,Z35,Z37,Z39,Z40,Z42) -> 1 | AA22: =(1/8)*SUM(AA24,AA26,AA28,AA29,AA30,AA32,AA33,AA35,AA37,AA39,AA40,AA42) -> 1 | AB22: =(1/8)*SUM(AB24,AB26,AB28,AB29,AB30,AB32,AB33,AB35,AB37,AB39,AB40,AB42) -> 1 | AC22: =(1/8)*SUM(AC24,AC26,AC28,AC29,AC30,AC32,AC33,AC35,AC37,AC39,AC40,AC42) -> 1 | AD22: =(1/8)*SUM(AD24,AD26,AD28,AD29,AD30,AD32,AD33,AD35,AD37,AD39,AD40,AD42) -> 1 | AE22: 0 | AF22: 25 | AG22: 50 | AH22: 75 | AI22: 100 | AL22: score doel/prestatie | AN22: weging | AP22: CPI | CAB22: =BZJ53 -> #N/A
B23: 0.2 | C23: 0.15 | D23: 0.15 | E23: 0.15 | F23: 0.05 | G23: 0.01 | K23: 1 | L23: Voorkómen: niet doen wat echt niet hoeft | U23: 1 | W23: =X23*$X$20+Y23*$Y$20+Z23*$Z$20+AA23*$AA$20+AB23*$AB$20+AC23*$AC$20+AD23*$AD$20 -> 0.27 | X23: ='info weging'!B8 -> 0.3 | Y23: ='info weging'!C8 -> 0.27 | Z23: ='info weging'!D8 -> 0.15 | AA23: ='info weging'!E8 -> 0.15 | AB23: ='info weging'!F8 -> 0.05 | AC23: ='info weging'!G8 -> 0.01 | AD23: ='info weging'!H8 -> 0.125 | AN23: ='print Basis'!P18 -> 0.27 | AP23: ='print Basis'!Q18 -> #VALUE! | BYX23: initiatieffase | BYY23: ="berekening CP="&N49 -> #N/A | BYZ23: referentie initiatieffase (max) | BZB23: verkenning | BZC23: alternatief | BZD23: referentie verkenningsfase | BZF23: planuitwerking | BZG23: alternatief | BZH23: referentie planuitwerkingsfase | BZJ23: contractvorming | BZK23: alternatief | BZL23: referentie contractvorming | BZN23: realisatie | BZO23: alternatief | BZP23: referentie realisatie | BZR23: beheer/onderhoud | BZS23: alternatief | BZT23: referentie beheer/onderhoud | BZV23: =AK16 -> eigen waarde | BZW23: alternatief | BZX23: referentie "eigen waarde" | CAB23: =N7 -> invoer Basis | CAC23: max score
B24: 1 | C24: 1 | D24: 1 | E24: 1 | F24: 1 | G24: 1 | K24: a | L24: verklein de omvang van de opgave. Wees kritisch t.a.v. eisen/uitgangspunten. Hergebruik materialen/elementen of een nieuwe/dubbelfunctie | M24: =IF(N24=""," klik hier op linkermuisknop + selecteer via het pull down menu het gerealiseerd circulaire doel","") -> klik hier op linkermuisknop + selecteer via het pull down menu het gerealiseerd circulaire doel | W24: =X24*$X$20+Y24*$Y$20+Z24*$Z$20+AA24*$AA$20+AB24*$AB$20+AC24*$AC$20+AD24*$AD$20 -> 1 | X24: ='info weging'!B9 -> 1 | Y24: ='info weging'!C9 -> 1 | Z24: ='info weging'!D9 -> 1 | AA24: ='info weging'!E9 -> 1 | AB24: ='info weging'!F9 -> 1 | AC24: ='info weging'!G9 -> 1 | AD24: ='info weging'!H9 -> 1 | AE24: =VLOOKUP(N24,'info weging'!$A$36:$H$163,2,FALSE) -> #N/A | AF24: =VLOOKUP(N24,'info weging'!$A$36:$H$163,3,FALSE) -> #N/A | AG24: =VLOOKUP(N24,'info weging'!$A$36:$H$163,4,FALSE) -> #N/A | AH24: =VLOOKUP(N24,'info weging'!$A$36:$H$163,5,FALSE) -> #N/A | AI24: =VLOOKUP(N24,'info weging'!$A$36:$H$163,6,FALSE) -> #N/A | AJ24: =VLOOKUP(N24,'info weging'!$A$36:$H$163,7,FALSE) -> #N/A | AK24: =VLOOKUP(N24,'info weging'!$A$36:$H$163,8,FALSE) -> #N/A | AL24: =IF(COUNTA(N24)=1,AE24*$AE$15+AF24*$AF$15+AG24*$AG$15+AH24*$AH$15+AI24*$AI$15+AJ24*$AJ$15+AK24*$AK$15,"----") -> ---- | AN24: ='print Basis'!P19 -> 1 | BYV24: A | BYW24: a | BYX24: verklein opgave | BYY24: =AE24*X23*X24 -> #N/A | BYZ24: =100*X24*X23 -> 30 | BZB24: verklein opgave | BZC24: =AF24*Y23*Y24 -> #N/A | BZD24: =100*Y24*Y23 -> 27 | BZF24: verklein opgave | BZG24: =AG24*Z23*Z24 -> #N/A | BZH24: =100*Z24*Z23 -> 15 | BZJ24: verklein opgave | BZK24: =AH24*AA23*AA24 -> #N/A | BZL24: =100*AA24*AA23 -> 15 | BZN24: verklein opgave | BZO24: =AI24*AB23*AB24 -> #N/A | BZP24: =100*G24*G23 -> 1 | BZR24: verklein opgave | BZS24: =AJ24*AC23*AC24 -> #N/A | BZT24: =100*AC24*AC23 -> 1 | BZV24: verklein opgave | BZW24: =AK24*AD24*AD23 -> #N/A | BZX24: =100*AD24*AD23 -> 12.5 | CAA24: =BZV24 -> verklein opgave | CAB24: =BYY24*$BYY$15+BZC24*$BZC$15+BZG24*$BZG$15+BZK24*$BZK$15+BZO24*$BZO$15+BZS24*$BZS$15+BZW24*$BZW$15 -> #N/A | CAC24: =BYZ24*$BYY$15+BZD24*$BZC$15+BZH24*$BZG$15+BZL24*$BZK$15+BZP24*$BZO$15+BZT24*$BZS$15+BZX24*$BZW$15 -> 27
B25: 0.17 | C25: 0.15 | D25: 0.15 | E25: 0.12 | F25: 0.125 | G25: 0.2 | K25: 2 | L25: Verleng de levensduur van bestaande objecten of componenten | U25: 2 | W25: =X25*$X$20+Y25*$Y$20+Z25*$Z$20+AA25*$AA$20+AB25*$AB$20+AC25*$AC$20+AD25*$AD$20 -> 0.07 | X25: ='info weging'!B10 -> 0.25 | Y25: ='info weging'!C10 -> 0.07 | Z25: ='info weging'!D10 -> 0.07 | AA25: ='info weging'!E10 -> 0.05 | AB25: ='info weging'!F10 -> 0.05 | AC25: ='info weging'!G10 -> 0.25 | AD25: ='info weging'!H10 -> 0.125 | AN25: ='print Basis'!P20 -> 0.07 | AP25: ='print Basis'!Q20 -> #VALUE! | BYV25: B | BYW25: a | BYX25: levensduurverlenging | BYY25: =AE26*X26*X25 -> #N/A | BYZ25: =100*X26*X25 -> 25 | BZB25: levensduurverlenging | BZC25: =AF26*Y26*Y25 -> #N/A | BZD25: =100*Y26*Y25 -> 7 | BZF25: levensduurverlenging | BZG25: =AG26*Z26*Z25 -> #N/A | BZH25: =100*Z26*Z25 -> 7 | BZJ25: levensduurverlenging | BZK25: =AH26*AA26*AA25 -> #N/A | BZL25: =100*AA26*AA25 -> 5 | BZN25: levensduurverlenging | BZO25: =AI26*AB26*AB25 -> #N/A | BZP25: =100*G26*G25 -> 20 | BZR25: levensduurverlenging | BZS25: =AJ26*AC26*AC25 -> #N/A | BZT25: =100*AC26*AC25 -> 25 | BZV25: levensduurverlenging | BZW25: =AK26*AD26*AD25 -> #N/A | BZX25: =100*AD26*AD25 -> 12.5 | CAA25: =BZV25 -> levensduurverlenging | CAB25: =BYY25*$BYY$15+BZC25*$BZC$15+BZG25*$BZG$15+BZK25*$BZK$15+BZO25*$BZO$15+BZS25*$BZS$15+BZW25*$BZW$15 -> #N/A | CAC25: =BYZ25*$BYY$15+BZD25*$BZC$15+BZH25*$BZG$15+BZL25*$BZK$15+BZP25*$BZO$15+BZT25*$BZS$15+BZX25*$BZW$15 -> 7
B26: 1 | C26: 1 | D26: 1 | E26: 1 | F26: 1 | G26: 1 | K26: a | L26: mogelijkheden voor verlenging van de levensduur van bestaande objecten | M26: =IF(N26=""," klik hier op linkermuisknop + selecteer via het pull down menu het gerealiseerd circulaire doel","") -> klik hier op linkermuisknop + selecteer via het pull down menu het gerealiseerd circulaire doel | W26: =X26*$X$20+Y26*$Y$20+Z26*$Z$20+AA26*$AA$20+AB26*$AB$20+AC26*$AC$20+AD26*$AD$20 -> 1 | X26: ='info weging'!B11 -> 1 | Y26: ='info weging'!C11 -> 1 | Z26: ='info weging'!D11 -> 1 | AA26: ='info weging'!E11 -> 1 | AB26: ='info weging'!F11 -> 1 | AC26: ='info weging'!G11 -> 1 | AD26: ='info weging'!H11 -> 1 | AE26: =VLOOKUP(N26,'info weging'!$A$36:$H$163,2,FALSE) -> #N/A | AF26: =VLOOKUP(N26,'info weging'!$A$36:$H$163,3,FALSE) -> #N/A | AG26: =VLOOKUP(N26,'info weging'!$A$36:$H$163,4,FALSE) -> #N/A | AH26: =VLOOKUP(N26,'info weging'!$A$36:$H$163,5,FALSE) -> #N/A | AI26: =VLOOKUP(N26,'info weging'!$A$36:$H$163,6,FALSE) -> #N/A | AJ26: =VLOOKUP(N26,'info weging'!$A$36:$H$163,7,FALSE) -> #N/A | AK26: =VLOOKUP(N26,'info weging'!$A$36:$H$163,8,FALSE) -> #N/A | AL26: =IF(COUNTA(N26)=1,AE26*$AE$15+AF26*$AF$15+AG26*$AG$15+AH26*$AH$15+AI26*$AI$15+AJ26*$AJ$15+AK26*$AK$15,"----") -> ---- | AN26: ='print Basis'!P21 -> 1 | BYV26: C | BYW26: a | BYX26: hergebruik | BYY26: =AE28*X28*X27 -> #N/A | BYZ26: =100*X28*X27 -> 7.8 | BZB26: hergebruik | BZC26: =AF28*Y28*Y27 -> #N/A | BZD26: =100*Y28*Y27 -> 2.8 | BZF26: hergebruik | BZG26: =AG28*Z28*Z27 -> #N/A | BZH26: =100*Z28*Z27 -> 6 | BZJ26: hergebruik | BZK26: =AH28*AA28*AA27 -> #N/A | BZL26: =100*AA28*AA27 -> 6 | BZN26: hergebruik | BZO26: =AI28*AB28*AB27 -> #N/A | BZP26: =100*G28*G27 -> 4 | BZR26: hergebruik | BZS26: =AJ28*AC28*AC27 -> #N/A | BZT26: =100*AC28*AC27 -> 4 | BZV26: hergebruik | BZW26: =AK28*AD28*AD27 -> #N/A | BZX26: =100*AD28*AD27 -> 5 | CAA26: =BZV26 -> hergebruik | CAB26: =BYY26*$BYY$15+BZC26*$BZC$15+BZG26*$BZG$15+BZK26*$BZK$15+BZO26*$BZO$15+BZS26*$BZS$15+BZW26*$BZW$15 -> #N/A | CAC26: =BYZ26*$BYY$15+BZD26*$BZC$15+BZH26*$BZG$15+BZL26*$BZK$15+BZP26*$BZO$15+BZT26*$BZS$15+BZX26*$BZW$15 -> 2.8
B27: 0.17 | C27: 0.15 | D27: 0.15 | E27: 0.2 | F27: 0.25 | G27: 0.2 | K27: 3 | L27: Duurzaam gebruik van bestaande objecten, materialen, grondstoffen en natuurlijke processen | U27: 3 | W27: =X27*$X$20+Y27*$Y$20+Z27*$Z$20+AA27*$AA$20+AB27*$AB$20+AC27*$AC$20+AD27*$AD$20 -> 0.07 | X27: ='info weging'!B12 -> 0.13 | Y27: ='info weging'!C12 -> 0.07 | Z27: ='info weging'!D12 -> 0.15 | AA27: ='info weging'!E12 -> 0.2 | AB27: ='info weging'!F12 -> 0.25 | AC27: ='info weging'!G12 -> 0.2 | AD27: ='info weging'!H12 -> 0.125 | AN27: ='print Basis'!P22 -> 0.07 | AP27: ='print Basis'!Q22 -> #VALUE! | BYW27: b | BYX27: materialendatabank | BYY27: =AE29*X29*X27 -> #N/A | BYZ27: =100*X29*X27 -> 1.3 | BZB27: materialendatabank | BZC27: =AF29*Y29*Y27 -> #N/A | BZD27: =Y29*Y27*100 -> 2.8 | BZF27: materialendatabank | BZG27: =AG29*Z29*Z27 -> #N/A | BZH27: =Z29*Z27*100 -> 6 | BZJ27: materialendatabank | BZK27: =AH29*AA29*AA27 -> #N/A | BZL27: =100*AA29*AA27 -> 12 | BZN27: materialendatabank | BZO27: =AI29*AB29*AB27 -> #N/A | BZP27: =G29*G27*100 -> 14 | BZR27: materialendatabank | BZS27: =AJ29*AC29*AC27 -> #N/A | BZT27: =AC29*AC27*100 -> 14 | BZV27: materialendatabank | BZW27: =AK29*AD29*AD27 -> #N/A | BZX27: =100*AD29*AD27 -> 5 | CAA27: =BZV27 -> materialendatabank | CAB27: =BYY27*$BYY$15+BZC27*$BZC$15+BZG27*$BZG$15+BZK27*$BZK$15+BZO27*$BZO$15+BZS27*$BZS$15+BZW27*$BZW$15 -> #N/A | CAC27: =BYZ27*$BYY$15+BZD27*$BZC$15+BZH27*$BZG$15+BZL27*$BZK$15+BZP27*$BZO$15+BZT27*$BZS$15+BZX27*$BZW$15 -> 2.8
B28: 0.4 | C28: 0.4 | D28: 0.4 | E28: 0.3 | F28: 0.2 | G28: 0.2 | K28: a | L28: restwaarde voor hergebruik bepalen van bestaande objecten, componenten en materialen | M28: =IF(N28=""," klik hier op linkermuisknop + selecteer via het pull down menu het gerealiseerd circulaire doel","") -> klik hier op linkermuisknop + selecteer via het pull down menu het gerealiseerd circulaire doel | W28: =X28*$X$20+Y28*$Y$20+Z28*$Z$20+AA28*$AA$20+AB28*$AB$20+AC28*$AC$20+AD28*$AD$20 -> 0.4 | X28: ='info weging'!B13 -> 0.6 | Y28: ='info weging'!C13 -> 0.4 | Z28: ='info weging'!D13 -> 0.4 | AA28: ='info weging'!E13 -> 0.3 | AB28: ='info weging'!F13 -> 0.2 | AC28: ='info weging'!G13 -> 0.2 | AD28: ='info weging'!H13 -> 0.4 | AE28: =VLOOKUP(N28,'info weging'!$A$36:$H$163,2,FALSE) -> #N/A | AF28: =VLOOKUP(N28,'info weging'!$A$36:$H$163,3,FALSE) -> #N/A | AG28: =VLOOKUP(N28,'info weging'!$A$36:$H$163,4,FALSE) -> #N/A | AH28: =VLOOKUP(N28,'info weging'!$A$36:$H$163,5,FALSE) -> #N/A | AI28: =VLOOKUP(N28,'info weging'!$A$36:$H$163,6,FALSE) -> #N/A | AJ28: =VLOOKUP(N28,'info weging'!$A$36:$H$163,7,FALSE) -> #N/A | AK28: =VLOOKUP(N28,'info weging'!$A$36:$H$163,8,FALSE) -> #N/A | AL28: =IF(COUNTA(N28)=1,AE28*$AE$15+AF28*$AF$15+AG28*$AG$15+AH28*$AH$15+AI28*$AI$15+AJ28*$AJ$15+AK28*$AK$15,"----") -> ---- | AN28: ='print Basis'!P23 -> 0.4 | BYW28: c | BYX28: natuurlijk proces | BYY28: =AE30*X30*X27 -> #N/A | BYZ28: =X30*X27*100 -> 3.9 | BZB28: natuurlijk proces | BZC28: =AF30*Y30*Y27 -> #N/A | BZD28: =100*Y30*Y27 -> 1.4 | BZF28: natuurlijk proces | BZG28: =AG30*Z30*Z27 -> #N/A | BZH28: =100*Z30*Z27 -> 3 | BZJ28: natuurlijk proces | BZK28: =AH30*AA30*AA27 -> #N/A | BZL28: =100*AA30*AA27 -> 2 | BZN28: natuurlijk proces | BZO28: =AI30*AB30*AB27 -> #N/A | BZP28: =100*G30*G27 -> 2 | BZR28: natuurlijk proces | BZS28: =AJ30*AC30*AC27 -> #N/A | BZT28: =100*AC27*AC30 -> 2 | BZV28: natuurlijk proces | BZW28: =AK30*AD30*AD27 -> #N/A | BZX28: =100*AD30*AD27 -> 2.5 | CAA28: =BZV28 -> natuurlijk proces | CAB28: =BYY28*$BYY$15+BZC28*$BZC$15+BZG28*$BZG$15+BZK28*$BZK$15+BZO28*$BZO$15+BZS28*$BZS$15+BZW28*$BZW$15 -> #N/A | CAC28: =BYZ28*$BYY$15+BZD28*$BZC$15+BZH28*$BZG$15+BZL28*$BZK$15+BZP28*$BZO$15+BZT28*$BZS$15+BZX28*$BZW$15 -> 1.4
B29: 0.4 | C29: 0.4 | D29: 0.4 | E29: 0.6 | F29: 0.7 | G29: 0.7 | K29: b | L29: gebruik van materialen(data)banken | M29: =IF(N29=""," klik hier op linkermuisknop + selecteer via het pull down menu het gerealiseerd circulaire doel","") -> klik hier op linkermuisknop + selecteer via het pull down menu het gerealiseerd circulaire doel | W29: =X29*$X$20+Y29*$Y$20+Z29*$Z$20+AA29*$AA$20+AB29*$AB$20+AC29*$AC$20+AD29*$AD$20 -> 0.4 | X29: ='info weging'!B14 -> 0.1 | Y29: ='info weging'!C14 -> 0.4 | Z29: ='info weging'!D14 -> 0.4 | AA29: ='info weging'!E14 -> 0.6 | AB29: ='info weging'!F14 -> 0.7 | AC29: ='info weging'!G14 -> 0.7 | AD29: ='info weging'!H14 -> 0.4 | AE29: =VLOOKUP(N29,'info weging'!$A$36:$H$163,2,FALSE) -> #N/A | AF29: =VLOOKUP(N29,'info weging'!$A$36:$H$163,3,FALSE) -> #N/A | AG29: =VLOOKUP(N29,'info weging'!$A$36:$H$163,4,FALSE) -> #N/A | AH29: =VLOOKUP(N29,'info weging'!$A$36:$H$163,5,FALSE) -> #N/A | AI29: =VLOOKUP(N29,'info weging'!$A$36:$H$163,6,FALSE) -> #N/A | AJ29: =VLOOKUP(N29,'info weging'!$A$36:$H$163,7,FALSE) -> #N/A | AK29: =VLOOKUP(N29,'info weging'!$A$36:$H$163,8,FALSE) -> #N/A | AL29: =IF(COUNTA(N29)=1,AE29*$AE$15+AF29*$AF$15+AG29*$AG$15+AH29*$AH$15+AI29*$AI$15+AJ29*$AJ$15+AK29*$AK$15,"----") -> ---- | AN29: ='print Basis'!P24 -> 0.4 | BYV29: D | BYW29: a | BYX29: herbruikb.na afdank | BYY29: =AE32*X32*X31 -> #N/A | BYZ29: =100*X32*X31 -> 4.5 | BZB29: herbruikb.na afdank | BZC29: =AF32*Y32*Y31 -> #N/A | BZD29: =100*Y32*Y31 -> 6.3 | BZF29: herbruikb.na afdank | BZG29: =AG32*Z32*Z31 -> #N/A | BZH29: =100*Z32*Z31 -> 9 | BZJ29: herbruikb.na afdank | BZK29: =AH32*AA32*AA31 -> #N/A | BZL29: =100*AA32*AA31 -> 8 | BZN29: herbruikb.na afdank | BZO29: =AI32*AB32*AB31 -> #N/A | BZP29: =100*G32*G31 -> 7.5 | BZR29: herbruikb.na afdank | BZS29: =AJ32*AC32*AC31 -> #N/A | BZT29: =100*AC32*AC31 -> 7.5 | BZV29: herbruikb.na afdank | BZW29: =AK32*AD32*AD31 -> #N/A | BZX29: =100*AD32*AD31 -> 11.25 | CAA29: =BZV29 -> herbruikb.na afdank | CAB29: =BYY29*$BYY$15+BZC29*$BZC$15+BZG29*$BZG$15+BZK29*$BZK$15+BZO29*$BZO$15+BZS29*$BZS$15+BZW29*$BZW$15 -> #N/A | CAC29: =BYZ29*$BYY$15+BZD29*$BZC$15+BZH29*$BZG$15+BZL29*$BZK$15+BZP29*$BZO$15+BZT29*$BZS$15+BZX29*$BZW$15 -> 6.3
B30: 0.2 | C30: 0.2 | D30: 0.2 | E30: 0.1 | F30: 0.1 | G30: 0.1 | K30: c | L30: (potentiële kansen voor) inzet van aanwezige natuurlijke processen | M30: =IF(N30=""," klik hier op linkermuisknop + selecteer via het pull down menu het gerealiseerd circulaire doel","") -> klik hier op linkermuisknop + selecteer via het pull down menu het gerealiseerd circulaire doel | W30: =X30*$X$20+Y30*$Y$20+Z30*$Z$20+AA30*$AA$20+AB30*$AB$20+AC30*$AC$20+AD30*$AD$20 -> 0.2 | X30: ='info weging'!B15 -> 0.3 | Y30: ='info weging'!C15 -> 0.2 | Z30: ='info weging'!D15 -> 0.2 | AA30: ='info weging'!E15 -> 0.1 | AB30: ='info weging'!F15 -> 0.1 | AC30: ='info weging'!G15 -> 0.1 | AD30: ='info weging'!H15 -> 0.2 | AE30: =VLOOKUP(N30,'info weging'!$A$36:$H$163,2,FALSE) -> #N/A | AF30: =VLOOKUP(N30,'info weging'!$A$36:$H$163,3,FALSE) -> #N/A | AG30: =VLOOKUP(N30,'info weging'!$A$36:$H$163,4,FALSE) -> #N/A | AH30: =VLOOKUP(N30,'info weging'!$A$36:$H$163,5,FALSE) -> #N/A | AI30: =VLOOKUP(N30,'info weging'!$A$36:$H$163,6,FALSE) -> #N/A | AJ30: =VLOOKUP(N30,'info weging'!$A$36:$H$163,7,FALSE) -> #N/A | AK30: =VLOOKUP(N30,'info weging'!$A$36:$H$163,8,FALSE) -> #N/A | AL30: =IF(COUNTA(N30)=1,AE30*$AE$15+AF30*$AF$15+AG30*$AG$15+AH30*$AH$15+AI30*$AI$15+AJ30*$AJ$15+AK30*$AK$15,"----") -> ---- | AN30: ='print Basis'!P25 -> 0.2 | BYW30: b | BYX30: materialenpaspoort | BYY30: =AE33*X33*X31 -> #N/A | BYZ30: =100*X33*X31 -> 0.5 | BZB30: materialenpaspoort | BZC30: =AF33*Y33*Y31 -> #N/A | BZD30: =Y33*Y31*100 -> 0.7 | BZF30: materialenpaspoort | BZG30: =AG33*Z33*Z31 -> #N/A | BZH30: =Z33*Z31*100 -> 1 | BZJ30: materialenpaspoort | BZK30: =AH33*AA33*AA31 -> #N/A | BZL30: =100*AA33*AA31 -> 2 | BZN30: materialenpaspoort | BZO30: =AI33*AB33*AB31 -> #N/A | BZP30: =G33*G31*100 -> 7.5 | BZR30: materialenpaspoort | BZS30: =AJ33*AC33*AC31 -> #N/A | BZT30: =AC33*AC31*100 -> 7.5 | BZV30: materialenpaspoort | BZW30: =AK33*AD33*AD31 -> #N/A | BZX30: =100*AD33*AD31 -> 1.25 | CAA30: =BZV30 -> materialenpaspoort | CAB30: =BYY30*$BYY$15+BZC30*$BZC$15+BZG30*$BZG$15+BZK30*$BZK$15+BZO30*$BZO$15+BZS30*$BZS$15+BZW30*$BZW$15 -> #N/A | CAC30: =BYZ30*$BYY$15+BZD30*$BZC$15+BZH30*$BZG$15+BZL30*$BZK$15+BZP30*$BZO$15+BZT30*$BZS$15+BZX30*$BZW$15 -> 0.7
B31: 0.05 | C31: 0.1 | D31: 0.15 | E31: 0.1 | F31: 0.15 | G31: 0.15 | K31: 4 | L31: Ontwerp voor meerdere levenscycli | U31: 4 | W31: =X31*$X$20+Y31*$Y$20+Z31*$Z$20+AA31*$AA$20+AB31*$AB$20+AC31*$AC$20+AD31*$AD$20 -> 0.07 | X31: ='info weging'!B16 -> 0.05 | Y31: ='info weging'!C16 -> 0.07 | Z31: ='info weging'!D16 -> 0.1 | AA31: ='info weging'!E16 -> 0.1 | AB31: ='info weging'!F16 -> 0.15 | AC31: ='info weging'!G16 -> 0.15 | AD31: ='info weging'!H16 -> 0.125 | AN31: ='print Basis'!P26 -> 0.07 | AP31: ='print Basis'!Q26 -> #VALUE! | BYV31: E | BYW31: a | BYX31: toekomstgericht | BYY31: =AE35*X35*X34 -> #N/A | BYZ31: =100*X35*X34 -> 15 | BZB31: toekomstgericht | BZC31: =AF35*Y35*Y34 -> #N/A | BZD31: =100*Y35*Y34 -> 10 | BZF31: toekomstgericht | BZG31: =AG35*Z35*Z34 -> #N/A | BZH31: =100*Z35*Z34 -> 10 | BZJ31: toekomstgericht | BZK31: =AH35*AA35*AA34 -> #N/A | BZL31: =100*AA35*AA34 -> 5 | BZN31: toekomstgericht | BZO31: =AI35*AB35*AB34 -> #N/A | BZP31: =100*G35*G34 -> 5 | BZR31: toekomstgericht | BZS31: =AJ35*AC35*AC34 -> #N/A | BZT31: =100*AC35*AC34 -> 5 | BZV31: toekomstgericht | BZW31: =AK35*AD35*AD34 -> #N/A | BZX31: =100*AD35*AD34 -> 12.5 | CAA31: =BZV31 -> toekomstgericht | CAB31: =BYY31*$BYY$15+BZC31*$BZC$15+BZG31*$BZG$15+BZK31*$BZK$15+BZO31*$BZO$15+BZS31*$BZS$15+BZW31*$BZW$15 -> #N/A | CAC31: =BYZ31*$BYY$15+BZD31*$BZC$15+BZH31*$BZG$15+BZL31*$BZK$15+BZP31*$BZO$15+BZT31*$BZS$15+BZX31*$BZW$15 -> 10
B32: =1-B33 -> 0.9 | C32: =1-C33 -> 0.9 | D32: =1-D33 -> 0.9 | E32: 0.8 | F32: =1-F33 -> 0.5 | G32: =1-G33 -> 0.5 | K32: a | L32: herbruikbaarheid van materialen/elementen (na einde levensduur) in ontwerp | M32: =IF(N32=""," klik hier op linkermuisknop + selecteer via het pull down menu het gerealiseerd circulaire doel","") -> klik hier op linkermuisknop + selecteer via het pull down menu het gerealiseerd circulaire doel | W32: =X32*$X$20+Y32*$Y$20+Z32*$Z$20+AA32*$AA$20+AB32*$AB$20+AC32*$AC$20+AD32*$AD$20 -> 0.9 | X32: ='info weging'!B17 -> 0.9 | Y32: ='info weging'!C17 -> 0.9 | Z32: ='info weging'!D17 -> 0.9 | AA32: ='info weging'!E17 -> 0.8 | AB32: ='info weging'!F17 -> 0.5 | AC32: ='info weging'!G17 -> 0.5 | AD32: ='info weging'!H17 -> 0.9 | AE32: =VLOOKUP(N32,'info weging'!$A$36:$H$163,2,FALSE) -> #N/A | AF32: =VLOOKUP(N32,'info weging'!$A$36:$H$163,3,FALSE) -> #N/A | AG32: =VLOOKUP(N32,'info weging'!$A$36:$H$163,4,FALSE) -> #N/A | AH32: =VLOOKUP(N32,'info weging'!$A$36:$H$163,5,FALSE) -> #N/A | AI32: =VLOOKUP(N32,'info weging'!$A$36:$H$163,6,FALSE) -> #N/A | AJ32: =VLOOKUP(N32,'info weging'!$A$36:$H$163,7,FALSE) -> #N/A | AK32: =VLOOKUP(N32,'info weging'!$A$36:$H$163,8,FALSE) -> #N/A | AL32: =IF(COUNTA(N32)=1,AE32*$AE$15+AF32*$AF$15+AG32*$AG$15+AH32*$AH$15+AI32*$AI$15+AJ32*$AJ$15+AK32*$AK$15,"----") -> ---- | AN32: ='print Basis'!P27 -> 0.9 | BYV32: F | BYW32: a | BYX32: beheer/onderhoud | BYY32: =AE37*X37*X36 -> #N/A | BYZ32: =100*X37*X36 -> 5 | BZB32: beheer/onderhoud | BZC32: =AF37*Y37*Y36 -> #N/A | BZD32: =100*Y37*Y36 -> 7 | BZF32: beheer/onderhoud | BZG32: =AG37*Z37*Z36 -> #N/A | BZH32: =100*Z37*Z36 -> 13 | BZJ32: beheer/onderhoud | BZK32: =AH37*AA37*AA36 -> #N/A | BZL32: =100*AA37*AA36 -> 15 | BZN32: beheer/onderhoud | BZO32: =AI37*AB37*AB36 -> #N/A | BZP32: =100*G37*G36 -> 20 | BZR32: beheer/onderhoud | BZS32: =AJ37*AC37*AC36 -> #N/A | BZT32: =100*AC37*AC36 -> 20 | BZV32: beheer/onderhoud | BZW32: =AK37*AD37*AD36 -> #N/A | BZX32: =100*AD37*AD36 -> 12.5 | CAA32: =BZV32 -> beheer/onderhoud | CAB32: =BYY32*$BYY$15+BZC32*$BZC$15+BZG32*$BZG$15+BZK32*$BZK$15+BZO32*$BZO$15+BZS32*$BZS$15+BZW32*$BZW$15 -> #N/A | CAC32: =BYZ32*$BYY$15+BZD32*$BZC$15+BZH32*$BZG$15+BZL32*$BZK$15+BZP32*$BZO$15+BZT32*$BZS$15+BZX32*$BZW$15 -> 7
B33: 0.1 | C33: 0.1 | D33: 0.1 | E33: 0.2 | F33: 0.5 | G33: 0.5 | K33: b | L33: materialenpaspoort | M33: =IF(N33=""," klik hier op linkermuisknop + selecteer via het pull down menu het gerealiseerd circulaire doel","") -> klik hier op linkermuisknop + selecteer via het pull down menu het gerealiseerd circulaire doel | W33: =X33*$X$20+Y33*$Y$20+Z33*$Z$20+AA33*$AA$20+AB33*$AB$20+AC33*$AC$20+AD33*$AD$20 -> 0.1 | X33: ='info weging'!B18 -> 0.1 | Y33: ='info weging'!C18 -> 0.1 | Z33: ='info weging'!D18 -> 0.1 | AA33: ='info weging'!E18 -> 0.2 | AB33: ='info weging'!F18 -> 0.5 | AC33: ='info weging'!G18 -> 0.5 | AD33: ='info weging'!H18 -> 0.1 | AE33: =VLOOKUP(N33,'info weging'!$A$36:$H$163,2,FALSE) -> #N/A | AF33: =VLOOKUP(N33,'info weging'!$A$36:$H$163,3,FALSE) -> #N/A | AG33: =VLOOKUP(N33,'info weging'!$A$36:$H$163,4,FALSE) -> #N/A | AH33: =VLOOKUP(N33,'info weging'!$A$36:$H$163,5,FALSE) -> #N/A | AI33: =VLOOKUP(N33,'info weging'!$A$36:$H$163,6,FALSE) -> #N/A | AJ33: =VLOOKUP(N33,'info weging'!$A$36:$H$163,7,FALSE) -> #N/A | AK33: =VLOOKUP(N33,'info weging'!$A$36:$H$163,8,FALSE) -> #N/A | AL33: =IF(COUNTA(N33)=1,AE33*$AE$15+AF33*$AF$15+AG33*$AG$15+AH33*$AH$15+AI33*$AI$15+AJ33*$AJ$15+AK33*$AK$15,"----") -> ---- | AN33: ='print Basis'!P28 -> 0.1 | BYV33: G | BYW33: a | BYX33: MKIberekening | BYY33: =AE39*X39*X38 -> #N/A | BYZ33: =100*X39*X38 -> 2.5 | BZB33: MKIberekening | BZC33: =AF39*Y39*Y38 -> #N/A | BZD33: =100*Y39*Y38 -> 20 | BZF33: MKIberekening | BZG33: =AG39*Z39*Z38 -> #N/A | BZH33: =100*Z39*Z38 -> 10 | BZJ33: MKIberekening | BZK33: =AH39*AA39*AA38 -> #N/A | BZL33: =100*AA39*AA38 -> 10 | BZN33: MKIberekening | BZO33: =AI39*AB39*AB38 -> #N/A | BZP33: =100*G39*G38 -> 7 | BZR33: MKIberekening | BZS33: =AJ39*AC39*AC38 -> #N/A | BZT33: =100*AC39*AC38 -> 2 | BZV33: MKIberekening | BZW33: =AK39*AD39*AD38 -> #N/A | BZX33: =100*AD39*AD38 -> 10 | CAA33: =BZV33 -> MKIberekening | CAB33: =BYY33*$BYY$15+BZC33*$BZC$15+BZG33*$BZG$15+BZK33*$BZK$15+BZO33*$BZO$15+BZS33*$BZS$15+BZW33*$BZW$15 -> #N/A | CAC33: =BYZ33*$BYY$15+BZD33*$BZC$15+BZH33*$BZG$15+BZL33*$BZK$15+BZP33*$BZO$15+BZT33*$BZS$15+BZX33*$BZW$15 -> 20
B34: 0.15 | C34: 0.11 | D34: 0.1 | E34: 0.11 | F34: 0.1 | G34: 0.05 | K34: 5 | L34: Ontwerp toekomstbestendig | U34: 5 | W34: =X34*$X$20+Y34*$Y$20+Z34*$Z$20+AA34*$AA$20+AB34*$AB$20+AC34*$AC$20+AD34*$AD$20 -> 0.1 | X34: ='info weging'!B19 -> 0.15 | Y34: ='info weging'!C19 -> 0.1 | Z34: ='info weging'!D19 -> 0.1 | AA34: ='info weging'!E19 -> 0.05 | AB34: ='info weging'!F19 -> 0.05 | AC34: ='info weging'!G19 -> 0.05 | AD34: ='info weging'!H19 -> 0.125 | AN34: ='print Basis'!P29 -> 0.1 | AP34: ='print Basis'!Q29 -> #VALUE! | BYW34: b | BYX34: CIberekening | BYY34: =AE40*X40*X38 -> #N/A | BYZ34: =100*X40*X38 -> 2.5 | BZB34: CIberekening | BZC34: =AF40*Y40*Y38 -> #N/A | BZD34: =Y40*Y38*100 -> 5 | BZF34: CIberekening | BZG34: =AG40*Z40*Z38 -> #N/A | BZH34: =Z40*Z38*100 -> 10 | BZJ34: CIberekening | BZK34: =AH40*AA40*AA38 -> #N/A | BZL34: =100*AA40*AA38 -> 10 | BZN34: CIberekening | BZO34: =AI40*AB40*AB38 -> #N/A | BZP34: =G40*G38*100 -> 7 | BZR34: CIberekening | BZS34: =AJ40*AC40*AC38 -> #N/A | BZT34: =AC40*AC38*100 -> 2 | BZV34: CIberekening | BZW34: =AK40*AD40*AD38 -> #N/A | BZX34: =100*AD40*AD38 -> 2.5 | CAA34: =BZV34 -> CIberekening | CAB34: =BYY34*$BYY$15+BZC34*$BZC$15+BZG34*$BZG$15+BZK34*$BZK$15+BZO34*$BZO$15+BZS34*$BZS$15+BZW34*$BZW$15 -> #N/A | CAC34: =BYZ34*$BYY$15+BZD34*$BZC$15+BZH34*$BZG$15+BZL34*$BZK$15+BZP34*$BZO$15+BZT34*$BZS$15+BZX34*$BZW$15 -> 5
B35: 1 | C35: 1 | D35: 1 | E35: 1 | F35: 1 | G35: 1 | K35: a | L35: adaptief en toekomstgericht. Betrek omgeving bij planvorming | M35: =IF(N35=""," klik hier op linkermuisknop + selecteer via het pull down menu het gerealiseerd circulaire doel","") -> klik hier op linkermuisknop + selecteer via het pull down menu het gerealiseerd circulaire doel | W35: =X35*$X$20+Y35*$Y$20+Z35*$Z$20+AA35*$AA$20+AB35*$AB$20+AC35*$AC$20+AD35*$AD$20 -> 1 | X35: ='info weging'!B20 -> 1 | Y35: ='info weging'!C20 -> 1 | Z35: ='info weging'!D20 -> 1 | AA35: ='info weging'!E20 -> 1 | AB35: ='info weging'!F20 -> 1 | AC35: ='info weging'!G20 -> 1 | AD35: ='info weging'!H20 -> 1 | AE35: =VLOOKUP(N35,'info weging'!$A$36:$H$163,2,FALSE) -> #N/A | AF35: =VLOOKUP(N35,'info weging'!$A$36:$H$163,3,FALSE) -> #N/A | AG35: =VLOOKUP(N35,'info weging'!$A$36:$H$163,4,FALSE) -> #N/A | AH35: =VLOOKUP(N35,'info weging'!$A$36:$H$163,5,FALSE) -> #N/A | AI35: =VLOOKUP(N35,'info weging'!$A$36:$H$163,6,FALSE) -> #N/A | AJ35: =VLOOKUP(N35,'info weging'!$A$36:$H$163,7,FALSE) -> #N/A | AK35: =VLOOKUP(N35,'info weging'!$A$36:$H$163,8,FALSE) -> #N/A | AL35: =IF(COUNTA(N35)=1,AE35*$AE$15+AF35*$AF$15+AG35*$AG$15+AH35*$AH$15+AI35*$AI$15+AJ35*$AJ$15+AK35*$AK$15,"----") -> ---- | AN35: ='print Basis'!P30 -> 1 | BYV35: H | BYW35: a | BYX35: CO2berekening | BYY35: =AE42*X42*X41 -> #N/A | BYZ35: =100*X42*X41 -> 2 | BZB35: CO2berekening | BZC35: =AF42*Y42*Y41 -> #N/A | BZD35: =100*Y42*Y41 -> 10 | BZF35: CO2berekening | BZG35: =AG42*Z42*Z41 -> #N/A | BZH35: =100*Z42*Z41 -> 10 | BZJ35: CO2berekening | BZK35: =AH42*AA42*AA41 -> #N/A | BZL35: =100*AA42*AA41 -> 10 | BZN35: CO2berekening | BZO35: =AI42*AB42*AB41 -> #N/A | BZP35: =100*G42*G41 -> 5 | BZR35: CO2berekening | BZS35: =AJ42*AC42*AC41 -> #N/A | BZT35: =100*AC42*AC41 -> 10 | BZV35: CO2berekening | BZW35: =AK42*AD42*AD41 -> #N/A | BZX35: =100*AD42*AD41 -> 12.5 | CAA35: =BZV35 -> CO2berekening | CAB35: =BYY35*$BYY$15+BZC35*$BZC$15+BZG35*$BZG$15+BZK35*$BZK$15+BZO35*$BZO$15+BZS35*$BZS$15+BZW35*$BZW$15 -> #N/A | CAC35: =BYZ35*$BYY$15+BZD35*$BZC$15+BZH35*$BZG$15+BZL35*$BZK$15+BZP35*$BZO$15+BZT35*$BZS$15+BZX35*$BZW$15 -> 10
B36: 0.1 | C36: 0.11 | D36: 0.1 | E36: 0.14 | F36: 0.15 | G36: 0.2 | K36: 6 | L36: Ontwerp voor optimaal beheer en onderhoud | U36: 6 | W36: =X36*$X$20+Y36*$Y$20+Z36*$Z$20+AA36*$AA$20+AB36*$AB$20+AC36*$AC$20+AD36*$AD$20 -> 0.07 | X36: ='info weging'!B21 -> 0.05 | Y36: ='info weging'!C21 -> 0.07 | Z36: ='info weging'!D21 -> 0.13 | AA36: ='info weging'!E21 -> 0.15 | AB36: ='info weging'!F21 -> 0.15 | AC36: ='info weging'!G21 -> 0.2 | AD36: ='info weging'!H21 -> 0.125 | AN36: ='print Basis'!P31 -> 0.07 | AP36: ='print Basis'!Q31 -> #VALUE! | BYX36: rest | BYY36: =100-BYY37 -> #N/A | BYZ36: 0 | BZB36: rest | BZC36: =100-BZC37 -> #N/A | BZD36: 0 | BZF36: rest | BZG36: =100-BZG37 -> #N/A | BZH36: 0 | BZJ36: rest | BZK36: =100-BZK37 -> #N/A | BZL36: 0 | BZN36: rest | BZO36: =100-BZO37 -> #N/A | BZP36: 0 | BZR36: rest | BZS36: =100-BZS37 -> #N/A | BZT36: 0 | BZV36: rest | BZW36: =100-BZW37 -> #N/A | BZX36: 0 | CAA36: bonus | CAB36: =AP44 -> 0
B37: 1 | C37: 1 | D37: 1 | E37: 1 | F37: 1 | G37: 1 | K37: a | L37: beheer- en onderhoudsaspecten | M37: =IF(N37=""," klik hier op linkermuisknop + selecteer via het pull down menu het gerealiseerd circulaire doel","") -> klik hier op linkermuisknop + selecteer via het pull down menu het gerealiseerd circulaire doel | W37: =X37*$X$20+Y37*$Y$20+Z37*$Z$20+AA37*$AA$20+AB37*$AB$20+AC37*$AC$20+AD37*$AD$20 -> 1 | X37: ='info weging'!B22 -> 1 | Y37: ='info weging'!C22 -> 1 | Z37: ='info weging'!D22 -> 1 | AA37: ='info weging'!E22 -> 1 | AB37: ='info weging'!F22 -> 1 | AC37: ='info weging'!G22 -> 1 | AD37: ='info weging'!H22 -> 1 | AE37: =VLOOKUP(N37,'info weging'!$A$36:$H$163,2,FALSE) -> #N/A | AF37: =VLOOKUP(N37,'info weging'!$A$36:$H$163,3,FALSE) -> #N/A | AG37: =VLOOKUP(N37,'info weging'!$A$36:$H$163,4,FALSE) -> #N/A | AH37: =VLOOKUP(N37,'info weging'!$A$36:$H$163,5,FALSE) -> #N/A | AI37: =VLOOKUP(N37,'info weging'!$A$36:$H$163,6,FALSE) -> #N/A | AJ37: =VLOOKUP(N37,'info weging'!$A$36:$H$163,7,FALSE) -> #N/A | AK37: =VLOOKUP(N37,'info weging'!$A$36:$H$163,8,FALSE) -> #N/A | AL37: =IF(COUNTA(N37)=1,AE37*$AE$15+AF37*$AF$15+AG37*$AG$15+AH37*$AH$15+AI37*$AI$15+AJ37*$AJ$15+AK37*$AK$15,"----") -> ---- | AN37: ='print Basis'!P32 -> 1 | BYX37: totaal | BYY37: =SUM(BYY24:BYY35) -> #N/A | BYZ37: =SUM(BYZ24:BYZ36) -> 100 | BZB37: totaal | BZC37: =SUM(BZC24:BZC35) -> #N/A | BZD37: =SUM(BZD24:BZD36) -> 100 | BZF37: totaal | BZG37: =SUM(BZG24:BZG35) -> #N/A | BZH37: =SUM(BZH24:BZH36) -> 100 | BZJ37: totaal | BZK37: =SUM(BZK24:BZK35) -> #N/A | BZL37: =SUM(BZL24:BZL36) -> 100 | BZN37: totaal | BZO37: =SUM(BZO24:BZO35) -> #N/A | BZP37: =SUM(#REF!) -> #REF! | BZR37: totaal | BZS37: =SUM(BZS24:BZS35) -> #N/A | BZT37: =SUM(BZT24:BZT36) -> 100 | BZV37: totaal | BZW37: =SUM(BZW24:BZW35) -> #N/A | BZX37: =SUM(BZX24:BZX36) -> 100 | CAA37: =BZV36 -> rest | CAB37: =BYY36*$BYY$15+BZC36*$BZC$15+BZG36*$BZG$15+BZK36*$BZK$15+BZO36*$BZO$15+BZS36*$BZS$15+BZW36*$BZW$15-CAB36 -> #N/A | CAC37: =BYZ36*$BYY$15+BZD36*$BZC$15+BZH36*$BZG$15+BZL36*$BZK$15+BZP36*$BZO$15+BZT36*$BZS$15+BZX36*$BZW$15 -> 0
B38: 0.15 | C38: 0.18 | D38: 0.15 | E38: 0.13 | F38: 0.125 | G38: 0.14 | K38: 7 | L38: Duurzaam materiaalgebruik (hoeveel x milieubelasting) | U38: 7 | W38: =X38*$X$20+Y38*$Y$20+Z38*$Z$20+AA38*$AA$20+AB38*$AB$20+AC38*$AC$20+AD38*$AD$20 -> 0.25 | X38: ='info weging'!B23 -> 0.05 | Y38: ='info weging'!C23 -> 0.25 | Z38: ='info weging'!D23 -> 0.2 | AA38: ='info weging'!E23 -> 0.2 | AB38: ='info weging'!F23 -> 0.2 | AC38: ='info weging'!G23 -> 0.04 | AD38: ='info weging'!H23 -> 0.125 | AN38: ='print Basis'!P33 -> 0.25 | AP38: ='print Basis'!Q33 -> #VALUE! | CAA38: =BZV37 -> totaal | CAB38: =BYY37*$BYY$15+BZC37*$BZC$15+BZG37*$BZG$15+BZK37*$BZK$15+BZO37*$BZO$15+BZS37*$BZS$15+BZW37*$BZW$15 -> #N/A | CAC38: =BYZ37*$BYY$15+BZD37*$BZC$15+BZH37*$BZG$15+BZL37*$BZK$15+BZP37*$BZO$15+BZT37*$BZS$15+BZX37*$BZW$15 -> #REF! | CAD38: =SUM(CAC30:CAC37) -> 52.7
B39: 0.5 | C39: 0.5 | D39: 0.5 | E39: 0.5 | F39: 0.5 | G39: 0.5 | J39: =BZJ53 -> #N/A | K39: a | L39: Milieuimpact | M39: =IF(N39=""," klik hier op linkermuisknop + selecteer via het pull down menu het gerealiseerd circulaire doel","") -> klik hier op linkermuisknop + selecteer via het pull down menu het gerealiseerd circulaire doel | W39: =X39*$X$20+Y39*$Y$20+Z39*$Z$20+AA39*$AA$20+AB39*$AB$20+AC39*$AC$20+AD39*$AD$20 -> 0.8 | X39: ='info weging'!B24 -> 0.5 | Y39: ='info weging'!C24 -> 0.8 | Z39: ='info weging'!D24 -> 0.5 | AA39: ='info weging'!E24 -> 0.5 | AB39: ='info weging'!F24 -> 0.5 | AC39: ='info weging'!G24 -> 0.5 | AD39: ='info weging'!H24 -> 0.8 | AE39: =VLOOKUP(N39,'info weging'!$A$36:$H$163,2,FALSE) -> #N/A | AF39: =VLOOKUP(N39,'info weging'!$A$36:$H$163,3,FALSE) -> #N/A | AG39: =VLOOKUP(N39,'info weging'!$A$36:$H$163,4,FALSE) -> #N/A | AH39: =VLOOKUP(N39,'info weging'!$A$36:$H$163,5,FALSE) -> #N/A | AI39: =VLOOKUP(N39,'info weging'!$A$36:$H$163,6,FALSE) -> #N/A | AJ39: =VLOOKUP(N39,'info weging'!$A$36:$H$163,7,FALSE) -> #N/A | AK39: =VLOOKUP(N39,'info weging'!$A$36:$H$163,8,FALSE) -> #N/A | AL39: =IF(COUNTA(N39)=1,AE39*$AE$15+AF39*$AF$15+AG39*$AG$15+AH39*$AH$15+AI39*$AI$15+AJ39*$AJ$15+AK39*$AK$15,"----") -> ---- | AN39: ='print Basis'!P34 -> 0.8 | CAB39: =SUM(CAB24:CAB38) -> #N/A
B40: =1-B39 -> 0.5 | C40: =1-C39 -> 0.5 | D40: =1-D39 -> 0.5 | E40: =1-E39 -> 0.5 | F40: =1-F39 -> 0.5 | G40: =1-G39 -> 0.5 | K40: b | L40: Circulariteit | M40: =IF(N40=""," klik hier op linkermuisknop + selecteer via het pull down menu het gerealiseerd circulaire doel","") -> klik hier op linkermuisknop + selecteer via het pull down menu het gerealiseerd circulaire doel | W40: =X40*$X$20+Y40*$Y$20+Z40*$Z$20+AA40*$AA$20+AB40*$AB$20+AC40*$AC$20+AD40*$AD$20 -> 0.2 | X40: ='info weging'!B25 -> 0.5 | Y40: ='info weging'!C25 -> 0.2 | Z40: ='info weging'!D25 -> 0.5 | AA40: ='info weging'!E25 -> 0.5 | AB40: ='info weging'!F25 -> 0.5 | AC40: ='info weging'!G25 -> 0.5 | AD40: ='info weging'!H25 -> 0.2 | AE40: =VLOOKUP(N40,'info weging'!$A$36:$H$163,2,FALSE) -> #N/A | AF40: =VLOOKUP(N40,'info weging'!$A$36:$H$163,3,FALSE) -> #N/A | AG40: =VLOOKUP(N40,'info weging'!$A$36:$H$163,4,FALSE) -> #N/A | AH40: =VLOOKUP(N40,'info weging'!$A$36:$H$163,5,FALSE) -> #N/A | AI40: =VLOOKUP(N40,'info weging'!$A$36:$H$163,6,FALSE) -> #N/A | AJ40: =VLOOKUP(N40,'info weging'!$A$36:$H$163,7,FALSE) -> #N/A | AK40: =VLOOKUP(N40,'info weging'!$A$36:$H$163,8,FALSE) -> #N/A | AL40: =IF(COUNTA(N40)=1,AE40*$AE$15+AF40*$AF$15+AG40*$AG$15+AH40*$AH$15+AI40*$AI$15+AJ40*$AJ$15+AK40*$AK$15,"----") -> ---- | AN40: ='print Basis'!P35 -> 0.2
B41: 0.01 | C41: 0.05 | D41: 0.05 | E41: 0.05 | F41: 0.05 | G41: 0.05 | K41: 8 | L41: Ontwerp voor minimaal grondstof- en energiegebruik in de aanleg/gebruiksfase | U41: 8 | W41: =X41*$X$20+Y41*$Y$20+Z41*$Z$20+AA41*$AA$20+AB41*$AB$20+AC41*$AC$20+AD41*$AD$20 -> 0.1 | X41: ='info weging'!B26 -> 0.02 | Y41: ='info weging'!C26 -> 0.1 | Z41: ='info weging'!D26 -> 0.1 | AA41: ='info weging'!E26 -> 0.1 | AB41: ='info weging'!F26 -> 0.1 | AC41: ='info weging'!G26 -> 0.1 | AD41: ='info weging'!H26 -> 0.125 | AN41: ='print Basis'!P36 -> 0.1 | AP41: ='print Basis'!Q36 -> #VALUE!
B42: 1 | C42: 1 | D42: 1 | E42: 1 | F42: 1 | G42: 1 | K42: a | L42: CO2 impact materialen en energiegebruik | M42: =IF(N42=""," klik hier op linkermuisknop + selecteer via het pull down menu het gerealiseerd circulaire doel","") -> klik hier op linkermuisknop + selecteer via het pull down menu het gerealiseerd circulaire doel | W42: =X42*$X$20+Y42*$Y$20+Z42*$Z$20+AA42*$AA$20+AB42*$AB$20+AC42*$AC$20+AD42*$AD$20 -> 1 | X42: ='info weging'!B27 -> 1 | Y42: ='info weging'!C27 -> 1 | Z42: ='info weging'!D27 -> 1 | AA42: ='info weging'!E27 -> 1 | AB42: ='info weging'!F27 -> 1 | AC42: ='info weging'!G27 -> 1 | AD42: ='info weging'!H27 -> 1 | AE42: =VLOOKUP(N42,'info weging'!$A$36:$H$163,2,FALSE) -> #N/A | AF42: =VLOOKUP(N42,'info weging'!$A$36:$H$163,3,FALSE) -> #N/A | AG42: =VLOOKUP(N42,'info weging'!$A$36:$H$163,4,FALSE) -> #N/A | AH42: =VLOOKUP(N42,'info weging'!$A$36:$H$163,5,FALSE) -> #N/A | AI42: =VLOOKUP(N42,'info weging'!$A$36:$H$163,6,FALSE) -> #N/A | AJ42: =VLOOKUP(N42,'info weging'!$A$36:$H$163,7,FALSE) -> #N/A | AK42: =VLOOKUP(N42,'info weging'!$A$36:$H$163,8,FALSE) -> #N/A | AL42: =IF(COUNTA(N42)=1,AE42*$AE$15+AF42*$AF$15+AG42*$AG$15+AH42*$AH$15+AI42*$AI$15+AJ42*$AJ$15+AK42*$AK$15,"----") -> ---- | AN42: ='print Basis'!P37 -> 1
...

Sheet print Basis
C3: ='invoer Basis'!$N$2 -> De Circulaire Peiler | N3: CPI-monitor | O3: Referentiemonitor* (reductie) | R3: 0
C4: ='invoer Basis'!$N$3 -> Peilstok die circulariteit in projecten meetbaar maakt | N4: CPI score | O4: MKI* | P4: MCI*(CB'23) | Q4: CO2* | R4: 100
C5: Versie: | D5: ='invoer Basis'!AP6& " - "&'invoer Basis'!AP10 -> V2.0/a - 18012022 | N5: =Q40 -> #VALUE! | O5: =IF('invoer Basis'!AP68=0,"?",'invoer Basis'!AP67) -> ? | P5: =IF('invoer Basis'!AP72=0,"?",'invoer Basis'!AP71) -> ? | Q5: =IF('invoer Basis'!AP76=0,"?",'invoer Basis'!AP75) -> ?
O6: *Reductie t.o.v. referentie
N7: FASE
C8: Projectnaam: | G8: ='invoer Basis'!N4 -> Projectnaam | N8: 1 | O8: initiatieffase
C9: Plaats / Locatie: | G9: ='invoer Basis'!N6 -> Plaatsnaam | N9: 2 | O9: verkenningsfase
C10: Alternatief: | G10: ='invoer Basis'!N7 -> invoer Basis | N10: 3 | O10: planuitwerkingsfase
C11: Fase (t.b.v. weegfactoren): | G11: =IF(H11="initiatieffase",1)+IF(H11="verkenningsfase",2)+IF(H11="beheer/onderhoudsfase",6)+IF(H11="contractvormingsfase",4)+IF(H11="realisatiefase",5)+IF(H11="<eigen weegfactoren>",7)+IF(H11="planuitwerkingsfase",3) -> 2 | H11: ='invoer Basis'!N8 -> verkenningsfase | N11: 4 | O11: contractvormingsfase
N12: 5 | O12: realisatiefase
C13: Berekening uitgevoerd door: | G13: ='invoer Basis'!N10 -> Bas Is | N13: 6 | O13: beheer/onderhoudsfase
C14: Datum berekening: | G14: ='invoer Basis'!N11 -> 43831 | K14: =IF(G18=7,O14,"") | N14: 7 | O14: <eigen weegfactoren>
D15: score voor de 8 ontwerpprincipes volgens het MIRT
Q16: Proces
C17: ="Overzicht acties en maatregelen. Hoe invulling wordt gegeven aan de 8 ontwerpprincipes uit het MIRT. Alternatief: "&'info vergelijk'!D47 -> Overzicht acties en maatregelen. Hoe invulling wordt gegeven aan de 8 ontwerpprincipes uit het MIRT. Alternatief: invoer Basis NIET VOLLEDIG | P17: weging | Q17: CPI [-]* | S17: PNT(max100) | T17: Suggesties voor verbetering (wordt nog nader ingevuld) | AI17: Kansen voor verbetering van de circulariteit van het project
C18: ='invoer Basis'!K23 -> 1 | D18: ='invoer Basis'!L23 -> Voorkómen: niet doen wat echt niet hoeft | P18: ='invoer Basis'!W23 -> 0.27 | Q18: =P18*P19*S19 -> #VALUE!
C19: ='invoer Basis'!K24 -> a | D19: ='invoer Basis'!N24 -> 0 | P19: ='invoer Basis'!W24 -> 1 | S19: ='invoer Basis'!AL24 -> ---- | AI19: =IF(S19>50,"","Verdiepend onderzoek naar "&'invoer Basis'!L24)
C20: ='invoer Basis'!K25 -> 2 | D20: ='invoer Basis'!L25 -> Verleng de levensduur van bestaande objecten of componenten | P20: ='invoer Basis'!W25 -> 0.07 | Q20: =S21*P21*P20 -> #VALUE!
C21: ='invoer Basis'!K26 -> a | D21: ='invoer Basis'!N26 -> 0 | P21: ='invoer Basis'!W26 -> 1 | S21: ='invoer Basis'!AL26 -> ---- | AI21: =IF(S21>50,"","Verdiepend onderzoek naar "&'invoer Basis'!L26)
C22: ='invoer Basis'!K27 -> 3 | D22: ='invoer Basis'!L27 -> Duurzaam gebruik van bestaande objecten, materialen, grondstoffen en natuurlijke processen | P22: ='invoer Basis'!W27 -> 0.07 | Q22: =(S23*P23+S24*P24+S25*P25)*P22 -> #VALUE!
C23: ='invoer Basis'!K28 -> a | D23: ='invoer Basis'!N28 -> 0 | P23: ='invoer Basis'!W28 -> 0.4 | S23: ='invoer Basis'!AL28 -> ---- | AI23: =IF(S23>50,"","Verdiepend onderzoek naar "&'invoer Basis'!L28)
C24: ='invoer Basis'!K29 -> b | D24: ='invoer Basis'!N29 -> 0 | P24: ='invoer Basis'!W29 -> 0.4 | S24: ='invoer Basis'!AL29 -> ---- | AI24: =IF(S24>50,"","Verdiepend onderzoek naar "&'invoer Basis'!L29)
C25: ='invoer Basis'!K30 -> c | D25: ='invoer Basis'!N30 -> 0 | P25: ='invoer Basis'!W30 -> 0.2 | S25: ='invoer Basis'!AL30 -> ---- | AI25: =IF(S25>50,"","Verdiepend onderzoek naar "&'invoer Basis'!L30)
C26: ='invoer Basis'!K31 -> 4 | D26: ='invoer Basis'!L31 -> Ontwerp voor meerdere levenscycli | P26: ='invoer Basis'!W31 -> 0.07 | Q26: =(S27*P27+S28*P28)*P26 -> #VALUE!
C27: ='invoer Basis'!K32 -> a | D27: ='invoer Basis'!N32 -> 0 | P27: ='invoer Basis'!W32 -> 0.9 | S27: ='invoer Basis'!AL32 -> ---- | AI27: =IF(S27>50,"","Verdiepend onderzoek naar "&'invoer Basis'!L32)
C28: ='invoer Basis'!K33 -> b | D28: ='invoer Basis'!N33 -> 0 | P28: ='invoer Basis'!W33 -> 0.1 | S28: ='invoer Basis'!AL33 -> ---- | AI28: =IF(S28>50,"","Verdiepend onderzoek naar "&'invoer Basis'!L33)
C29: ='invoer Basis'!K34 -> 5 | D29: ='invoer Basis'!L34 -> Ontwerp toekomstbestendig | P29: ='invoer Basis'!W34 -> 0.1 | Q29: =P29*P30*S30 -> #VALUE!
C30: ='invoer Basis'!K35 -> a | D30: ='invoer Basis'!N35 -> 0 | P30: ='invoer Basis'!W35 -> 1 | S30: ='invoer Basis'!AL35 -> ---- | AI30: =IF(S30>50,"","Verdiepend onderzoek naar "&'invoer Basis'!L35)
C31: ='invoer Basis'!K36 -> 6 | D31: ='invoer Basis'!L36 -> Ontwerp voor optimaal beheer en onderhoud | P31: ='invoer Basis'!W36 -> 0.07 | Q31: =P31*P32*S32 -> #VALUE!
C32: ='invoer Basis'!K37 -> a | D32: ='invoer Basis'!N37 -> 0 | P32: ='invoer Basis'!W37 -> 1 | S32: ='invoer Basis'!AL37 -> ---- | AI32: =IF(S32>50,"","Verdiepend onderzoek naar "&'invoer Basis'!L37)
C33: ='invoer Basis'!K38 -> 7 | D33: ='invoer Basis'!L38 -> Duurzaam materiaalgebruik (hoeveel x milieubelasting) | P33: ='invoer Basis'!W38 -> 0.25 | Q33: =(S34*P34+S35*P35)*P33 -> #VALUE!
C34: ='invoer Basis'!K39 -> a | D34: ='invoer Basis'!N39 -> 0 | P34: ='invoer Basis'!W39 -> 0.8 | S34: ='invoer Basis'!AL39 -> ---- | AI34: =IF(S34>50,"","Verdiepend onderzoek naar "&'invoer Basis'!L39)
C35: ='invoer Basis'!K40 -> b | D35: ='invoer Basis'!N40 -> 0 | P35: ='invoer Basis'!W40 -> 0.2 | S35: ='invoer Basis'!AL40 -> ---- | AI35: =IF(S35>50,"","Verdiepend onderzoek naar "&'invoer Basis'!L40)
C36: ='invoer Basis'!K41 -> 8 | D36: ='invoer Basis'!L41 -> Ontwerp voor minimaal grondstof- en energiegebruik in de aanleg/gebruiksfase | P36: ='invoer Basis'!W41 -> 0.1 | Q36: =P36*P37*S37 -> #VALUE!
C37: ='invoer Basis'!K42 -> a | D37: ='invoer Basis'!N42 -> 0 | P37: ='invoer Basis'!W42 -> 1 | S37: ='invoer Basis'!AL42 -> ---- | T37: =IF(S37<75,'info weging'!I157,"") | AI37: =IF(S37>50,"","Verdiepend onderzoek naar "&'invoer Basis'!L42)
C38: subtotaal index circulariteitspeil (CPI) (max=100) | P38: 1 | Q38: =SUM(Q18:Q37) -> #VALUE!
C39: bonus | D39: BONUS (additionele innovatieve circulaire maatregelen) (eigen waarde handmatig invoeren, maximaal 10 PNT) | P39: 1 | Q39: =IF(S39>10,10,S39) -> 0 | S39: ='invoer Basis'!AP44 -> 0 | AI39: =IF('invoer Basis'!AR44=0,"",'invoer Basis'!AR44)
C40: totaal CPI | Q40: =Q38+Q39 -> #VALUE!
C41: * CPI = Circulair Peil Index | N41: 0 | O41: 100 | P41: onbenut | Q41: =100-Q40 -> #VALUE!

Sheet info vergelijk
B3: ='invoer Basis'!$N$4&" - vergelijking alternatieven" -> Projectnaam - vergelijking alternatieven | O3: ='invoer Basis'!N2 -> De Circulaire Peiler | Y3: Informatief blok
B5: ='invoer Basis'!N8 -> verkenningsfase | O5: ='invoer Basis'!N3 -> Peilstok die circulariteit in projecten meetbaar maakt
B6: Zó kunt u eenvoudig alternatieven vergelijken
B7: Alleen de resultaten van INVOER Basis, A1, B1, C1 en D1 in de gele cellen worden grafisch weergegeven.
B9: ='invoer Basis'!L4&" "&'invoer Basis'!N4 -> Naam project: Projectnaam
B10: ='invoer Basis'!L6&" "&'invoer Basis'!N6 -> Locatie project: Plaatsnaam
B11: ='invoer Basis'!L10&" "&'invoer Basis'!N10 -> Berekening uitgevoerd door: Bas Is
B12: ='invoer Basis'!M11 | C12: ='invoer Basis'!N11 -> 43831 | D12: Ongewogen score over 12 items uit de procesmonitor. Vergelijking van 5 alternatieven.
C13: ='invoer Basis'!L7 -> Naam alternatief: | D13: =IF(COUNT(D57)=1,'invoer Basis'!N7,D71&" NIET VOLLEDIG") -> invoer Basis NIET VOLLEDIG | E13: =IF(COUNT(E57)=1,'A1'!N7,E71&" NIET VOLLEDIG") -> A1 NIET VOLLEDIG | F13: =IF(COUNT(F57)=1,'B1'!N7,F71&" NIET VOLLEDIG") -> B1 NIET VOLLEDIG | G13: =IF(COUNT(G57)=1,'C1'!N7,G71&" NIET VOLLEDIG") -> C1 NIET VOLLEDIG | H13: =IF(COUNT(H57)=1,'D1'!N7,H71&" NIET VOLLEDIG") -> D1 NIET VOLLEDIG
C14: FASE | D14: ='invoer Basis'!N8 -> verkenningsfase | E14: ='A1'!N8 -> verkenningsfase | F14: ='B1'!N8 -> verkenningsfase | G14: ='C1'!N8 -> verkenningsfase | H14: ='D1'!N8 -> verkenningsfase | Z14: ='print Basis'!CJ8 -> 0 | AB14: CONTROLE ZOEKEN KEUZES (0 - 25 - 50 - 75 -100 punten) | AE14: Legenda kleurcodering
C15: ='invoer Basis'!L23 -> Voorkómen: niet doen wat echt niet hoeft | Z15: CIRCULAIRE ONTWERPPRINCIPES 1 t/m 8 + subvragen a t/m c | AB15: klik op het pulldownmenu voor de keuzeopties
C16: ='invoer Basis'!L24 -> verklein de omvang van de opgave. Wees kritisch t.a.v. eisen/uitgangspunten. Hergebruik materialen/elementen of een nieuwe/dubbelfunctie | D16: ='invoer Basis'!AL24 -> ---- | E16: ='A1'!AL24 -> ---- | F16: ='B1'!AL24 -> ---- | G16: ='C1'!AL24 -> ---- | H16: ='D1'!AL24 -> ---- | Y16: 1 | Z16: Voorkómen: niet doen wat echt niet hoeft
C17: ='invoer Basis'!L25 -> Verleng de levensduur van bestaande objecten of componenten | Y17: a | Z17: verklein de omvang van de opgave. Wees kritisch t.a.v. eisen/uitgangspunten. Hergebruik materialen/elementen of een nieuwe/dubbelfunctie | AB17: Opgaveverkleining via efficiëntere oplossingen + meekoppelkansen onderzocht (verkennend onderzoek; géén MKI berekeningen)
C18: ='invoer Basis'!L26 -> mogelijkheden voor verlenging van de levensduur van bestaande objecten | D18: ='invoer Basis'!AL26 -> ---- | E18: ='A1'!AL26 -> ---- | F18: ='B1'!AL26 -> ---- | G18: ='C1'!AL26 -> ---- | H18: ='D1'!AL26 -> ---- | Y18: 2 | Z18: Verleng de levensduur van bestaande objecten of componenten
C19: ='invoer Basis'!L27 -> Duurzaam gebruik van bestaande objecten, materialen, grondstoffen en natuurlijke processen | Y19: a | Z19: mogelijkheden voor verlenging van de levensduur van bestaande objecten | AB19: Levensduurverlenging is systematisch onderzocht (10R); >50% van de haalbare maatregelen geïmplementeerd
C20: ='invoer Basis'!L28 -> restwaarde voor hergebruik bepalen van bestaande objecten, componenten en materialen | D20: ='invoer Basis'!AL28 -> ---- | E20: ='A1'!AL28 -> ---- | F20: ='B1'!AL28 -> ---- | G20: ='C1'!AL28 -> ---- | H20: ='D1'!AL28 -> ---- | Y20: 3 | Z20: Duurzaam gebruik van bestaande objecten, materialen, grondstoffen en natuurlijke processen
C21: ='invoer Basis'!L29 -> gebruik van materialen(data)banken | D21: ='invoer Basis'!AL29 -> ---- | E21: ='A1'!AL29 -> ---- | F21: ='B1'!AL29 -> ---- | G21: ='C1'!AL29 -> ---- | H21: ='D1'!AL29 -> ---- | Y21: a | Z21: restwaarde voor hergebruik bepalen van bestaande objecten, componenten en materialen | AB21: Restwaarden in kaart gebracht (10-R); toepassingen in het project/gebied zijn onderzocht
C22: ='invoer Basis'!L30 -> (potentiële kansen voor) inzet van aanwezige natuurlijke processen | D22: ='invoer Basis'!AL30 -> ---- | E22: ='A1'!AL30 -> ---- | F22: ='B1'!AL30 -> ---- | G22: ='C1'!AL30 -> ---- | H22: ='D1'!AL30 -> ---- | Y22: b | Z22: gebruik van materialen(data)banken | AB22: Raadpleging van één of meer materialen(data)banken is niet overwogen voor het project
C23: ='invoer Basis'!L31 -> Ontwerp voor meerdere levenscycli | Y23: c | Z23: (potentiële kansen voor) inzet van aanwezige natuurlijke processen | AB23: Kansen voor inzet natuurlijke processen zijn onderzocht voor het project&gebied;haalbaarheidsstudie uitgevoerd; >80% van de haalbare maatregelen geïmplementeerd
C24: ='invoer Basis'!L32 -> herbruikbaarheid van materialen/elementen (na einde levensduur) in ontwerp | D24: ='invoer Basis'!AL32 -> ---- | E24: ='A1'!AL32 -> ---- | F24: ='B1'!AL32 -> ---- | G24: ='C1'!AL32 -> ---- | H24: ='D1'!AL32 -> ---- | Y24: 4 | Z24: Ontwerp voor meerdere levenscycli
C25: ='invoer Basis'!L33 -> materialenpaspoort | D25: ='invoer Basis'!AL33 -> ---- | E25: ='A1'!AL33 -> ---- | F25: ='B1'!AL33 -> ---- | G25: ='C1'!AL33 -> ---- | H25: ='D1'!AL33 -> ---- | Y25: a | Z25: herbruikbaarheid van materialen/elementen (na einde levensduur) in ontwerp | AB25: Herbruikbaarheid van materialen, etc. na einde levensduur is systematisch onderzocht
C26: ='invoer Basis'!L34 -> Ontwerp toekomstbestendig | Y26: b | Z26: materialenpaspoort | AB26: Tenminste 80% van de materialen zijn opgenomen in een materialenpaspoort. >80% daarvan heeft een bestemming voor hergebruik na einde levensduur
C27: ='invoer Basis'!L35 -> adaptief en toekomstgericht. Betrek omgeving bij planvorming | D27: ='invoer Basis'!AL35 -> ---- | E27: ='A1'!AL35 -> ---- | F27: ='B1'!AL35 -> ---- | G27: ='C1'!AL35 -> ---- | H27: ='D1'!AL35 -> ---- | Y27: 5 | Z27: Ontwerp toekomstbestendig
C28: ='invoer Basis'!L36 -> Ontwerp voor optimaal beheer en onderhoud | Y28: a | Z28: adaptief en toekomstgericht. Betrek omgeving bij planvorming | AB28: Uitwerking projectdoelstellingen (alleen) binnen de technische-, ruimtelijke- en beleidskaders
C29: ='invoer Basis'!L37 -> beheer- en onderhoudsaspecten | D29: ='invoer Basis'!AL37 -> ---- | E29: ='A1'!AL37 -> ---- | F29: ='B1'!AL37 -> ---- | G29: ='C1'!AL37 -> ---- | H29: ='D1'!AL37 -> ---- | Y29: 6 | Z29: Ontwerp voor optimaal beheer en onderhoud
C30: ='invoer Basis'!L38 -> Duurzaam materiaalgebruik (hoeveel x milieubelasting) | Y30: a | Z30: beheer- en onderhoudsaspecten | AB30: In het ontwerp wordt niet expliciet rekening gehouden met beheer- en onderhoudsaspecten
C31: ='invoer Basis'!L39 -> Milieuimpact | D31: ='invoer Basis'!AL39 -> ---- | E31: ='A1'!AL39 -> ---- | F31: ='B1'!AL39 -> ---- | G31: ='C1'!AL39 -> ---- | H31: ='D1'!AL39 -> ---- | Y31: 7 | Z31: Duurzaam materiaalgebruik (hoeveelxmilieubelasting)
C32: ='invoer Basis'!L40 -> Circulariteit | D32: ='invoer Basis'!AL40 -> ---- | E32: ='A1'!AL40 -> ---- | F32: ='B1'!AL40 -> ---- | G32: ='C1'!AL40 -> ---- | H32: ='D1'!AL40 -> ---- | Y32: a | Z32: Milieuimpact | AB32: Geen speciale aandacht in proces voor materiaalarm construeren, schaarse grondstof, hergebruik materiaal, (her)gebruik hernieuwbare en sec.(grond)stoffen
C33: ='invoer Basis'!L41 -> Ontwerp voor minimaal grondstof- en energiegebruik in de aanleg/gebruiksfase | Y33: b | Z33: Circulariteit | AB33: Geen speciale aandacht in proces voor circulariteit (10-R model)
C34: ='invoer Basis'!L42 -> CO2 impact materialen en energiegebruik | D34: ='invoer Basis'!AL42 -> ---- | E34: ='A1'!AL42 -> ---- | F34: ='B1'!AL42 -> ---- | G34: ='C1'!AL42 -> ---- | H34: ='D1'!AL42 -> ---- | Y34: 8 | Z34: Ontwerp voor minimaal grondstof- en energiegebruik in de aanleg/gebruiksfase
Y35: a | Z35: CO2 impact materialen en energiegebruik | AB35: Geen speciale aandacht in proces voor beperking grondstof- en energiegebruik tijdens aanlegfase en van toekomstige gebruikers
AB43: =BXX63 -> 0
C46: VERGELIJKING PROCESMONITOR CIRCULAIRE PEILER
C47: Alternatief | D47: =D13 -> invoer Basis NIET VOLLEDIG | E47: =E13 -> A1 NIET VOLLEDIG | F47: =F13 -> B1 NIET VOLLEDIG | G47: =G13 -> C1 NIET VOLLEDIG | H47: =H13 -> D1 NIET VOLLEDIG
C48: =C15 -> Voorkómen: niet doen wat echt niet hoeft | D48: =IF(COUNT(D16)=1,'invoer Basis'!L53,"----") -> ---- | E48: =IF(COUNT(E16)=1,'A1'!L53,"----") -> ---- | F48: =IF(COUNT(F16)=1,'B1'!L53,"----") -> ---- | G48: =IF(COUNT(G16)=1,'C1'!L53,"----") -> ---- | H48: =IF(COUNT(H16)=1,'D1'!L53,"----") -> ----
C49: =C17 -> Verleng de levensduur van bestaande objecten of componenten | D49: =IF(COUNT(D18)=1,'invoer Basis'!L54,"----") -> ---- | E49: =IF(COUNT(E18)=1,'A1'!L54,"----") -> ---- | F49: =IF(COUNT(F18)=1,'B1'!L54,"----") -> ---- | G49: =IF(COUNT(G18)=1,'C1'!L54,"----") -> ---- | H49: =IF(COUNT(H18)=1,'D1'!L54,"----") -> ----
C50: =C19 -> Duurzaam gebruik van bestaande objecten, materialen, grondstoffen en natuurlijke processen | D50: =IF(COUNT(D20:D22)=3,'invoer Basis'!L55,"----") -> ---- | E50: =IF(COUNT(E20:E22)=3,'A1'!L55,"----") -> ---- | F50: =IF(COUNT(F20:F22)=3,'B1'!L55,"----") -> ---- | G50: =IF(COUNT(G20:G22)=3,'C1'!L55,"----") -> ---- | H50: =IF(COUNT(H20:H22)=3,'D1'!L55,"----") -> ----
C51: =C23 -> Ontwerp voor meerdere levenscycli | D51: =IF(COUNT(D24:D25)=2,'invoer Basis'!L56,"----") -> ---- | E51: =IF(COUNT(E24:E25)=2,'A1'!L56,"----") -> ---- | F51: =IF(COUNT(F24:F25)=2,'B1'!L56,"----") -> ---- | G51: =IF(COUNT(G24:G25)=2,'C1'!L56,"----") -> ---- | H51: =IF(COUNT(H24:H25)=2,'D1'!L56,"----") -> ----
C52: =C26 -> Ontwerp toekomstbestendig | D52: =IF(COUNT(D27)=1,'invoer Basis'!L57,"----") -> ---- | E52: =IF(COUNT(E27)=1,'A1'!L57,"----") -> ---- | F52: =IF(COUNT(F27)=1,'B1'!L57,"----") -> ---- | G52: =IF(COUNT(G27)=1,'C1'!L57,"----") -> ---- | H52: =IF(COUNT(H27)=1,'D1'!L57,"----") -> ----
C53: =C28 -> Ontwerp voor optimaal beheer en onderhoud | D53: =IF(COUNT(D29)=1,'invoer Basis'!L58,"----") -> ---- | E53: =IF(COUNT(E29)=1,'A1'!L58,"----") -> ---- | F53: =IF(COUNT(F29)=1,'B1'!L58,"----") -> ---- | G53: =IF(COUNT(G29)=1,'C1'!L58,"----") -> ---- | H53: =IF(COUNT(H29)=1,'D1'!L58,"----") -> ----
...

Sheet A1
N2: De Circulaire Peiler
N3: Peilstok die circulariteit in projecten meetbaar maakt
L4: Projectnaam: | M4: =IF(N4=""," voer hier de projectnaam in","") | N4: ='invoer Basis'!N4 -> Projectnaam
L5: Opdrachtgever: | M5: =IF(N5=""," voer hier de naam van de opdrachtgever in","") | N5: ='invoer Basis'!N5 -> Naam opdrachtgever | AP5: Versie:
L6: Locatie project: | M6: =IF(N6=""," voer hier de locatie van het project in","") | N6: ='invoer Basis'!N6 -> Plaatsnaam | AP6: V2.0/b
